BEGIN:VCALENDAR
VERSION:2.0
PRODID:-//eventon.com NONSGML v1.0//EN
BEGIN:VEVENT
UID:69e739dd95b07
DTSTAMP:20260421T104829
DTSTART:20241203T163000Z
DTEND:20241203T174500Z
LOCATION:Centre Ther'Happy 34 B AV  DE SABRES
SUMMARY:STRETCH YOGA - Harmonie Chakras Flow 2
DESCRIPTION: Bienvenue à votre séance unique de Stretch Yoga et Méditation Pleine Conscience au Centre Ther'Happy! Plongez dans un voyage intérieur axé sur la synergie entre le chakra sacré et le chakra du cœur. Le chakra sacré (Svadhisthana) est le siège de votre créativité\,  de vos émotions\,  et de vos désirs.[..]
END:VEVENT
END:VCALENDAR