BEGIN:VCALENDAR
VERSION:2.0
PRODID:-//eventon.com NONSGML v1.0//EN
BEGIN:VEVENT
UID:69e4f33a73ae8
DTSTAMP:20260419T172234
DTSTART:20240213T090000Z
DTEND:20240213T100000Z
LOCATION:Centre Ther'Happy 34 B AV  DE SABRES
SUMMARY:ATELIERS YOGA FUSION 3
DESCRIPTION: 🌟 Ateliers Yoga Fusion: Tonification Abdominale et Bien-Être Profond 🌟 &nbsp; Bienvenue aux ateliers Yoga Fusion\,  une expérience unique alliant les bienfaits du yoga et des abdominaux hypopressifs pour renforcer votre sangle abdominale en profondeur.  &nbsp; 🧘‍♀️ Yoga Fusion: Une Synergie Bénéfique &nbsp; Découvrez une approche innovante qui associe les[..]
END:VEVENT
END:VCALENDAR